BEGIN:VCALENDAR
VERSION:2.0
PRODID:-//ExpressionEngine Easy iCalendar plugin//NONSGML v2.0.0//EN
X-WR-TIMEZONE:America/Chicago
X-WR-CALNAME:Upcoming Auctions
BEGIN:VEVENT
UID:142526
DTSTAMP:20250819T100000
DTSTART:20250819T100000
DTEND:20250826T160000
SUMMARY:Wilkerson Personal Property #1 - Denmark\, IA
LOCATION:1506 303rd Ave.\, Ft. Madison\, IA 52627\, US
DESCRIPTION:Selling furniture\, glassware\, lamps\, household decor\, tools\,
  patio and lawn furniture\, bed room sets\, antique games and 
 toys\, slot machine\, pachinko game\, large assortment of golf 
 clubs and bags\, lawn and garden tools\, weaving loom and acce
 ssories and much more.
URL:https://www.hoenigauctions.com/auctions/detail/bw142526
SEQUENCE:1
END:VEVENT
END:VCALENDAR