BEGIN:VCALENDAR
VERSION:2.0
PRODID:-//ExpressionEngine Easy iCalendar plugin//NONSGML v2.0.0//EN
X-WR-TIMEZONE:America/Chicago
X-WR-CALNAME:Upcoming Auctions
BEGIN:VEVENT
UID:142586
DTSTAMP:20250725T100000
DTSTART:20250725T100000
DTEND:20250806T100000
SUMMARY:JJ Nichting Inventory Reduction Auction
LOCATION:1342 Pilot Grove Road\, Pilot Grove\, IA 52648\, US
DESCRIPTION:NO RESERVE  *  NO BUYER'S PREMIUM  
URL:https://www.hoenigauctions.com/auctions/detail/bw142586
SEQUENCE:1
END:VEVENT
END:VCALENDAR