BEGIN:VCALENDAR
VERSION:2.0
PRODID:-//ExpressionEngine Easy iCalendar plugin//NONSGML v2.0.0//EN
X-WR-TIMEZONE:America/Chicago
X-WR-CALNAME:Upcoming Auctions
BEGIN:VEVENT
UID:144970
DTSTAMP:20250826T100000
DTSTART:20250826T100000
DTEND:20250902T160000
SUMMARY:Wilkerson Personal Property #2 - Ft Madison\, IA
LOCATION:415 10th Street\, Ft. Madison\, IA 52627\, US
DESCRIPTION:Selling furniture\, glassware\, lamps\, household decor\, bed r
 oom sets\, and much more.
URL:https://www.hoenigauctions.com/auctions/detail/bw144970
SEQUENCE:1
END:VEVENT
END:VCALENDAR