BEGIN:VCALENDAR
VERSION:2.0
PRODID:-//ExpressionEngine Easy iCalendar plugin//NONSGML v2.0.0//EN
X-WR-TIMEZONE:America/Chicago
X-WR-CALNAME:Upcoming Auctions
BEGIN:VEVENT
UID:144971
DTSTAMP:20250831T120000
DTSTART:20250831T120000
DTEND:20250909T130000
SUMMARY:Sievers Equipment Inventory Reduction Auction
LOCATION:406 N Old US Route 66\, Hamel\, IL 62046\, US
DESCRIPTION:PLEASE NOTE UPDATED CLOSING DATE 9/9: Pre-Harvest Equipment 
 Auction. Selling tractors\, combines\, corn heads\, grain head
 s\, flex drapers\, tillage and more.
URL:https://www.hoenigauctions.com/auctions/detail/bw144971
SEQUENCE:1
END:VEVENT
END:VCALENDAR