BEGIN:VCALENDAR
VERSION:2.0
PRODID:-//ExpressionEngine Easy iCalendar plugin//NONSGML v2.0.0//EN
X-WR-TIMEZONE:America/Chicago
X-WR-CALNAME:Upcoming Auctions
BEGIN:VEVENT
UID:144972
DTSTAMP:20250913T094500
DTSTART:20250913T094500
DTEND:20250913T104500
SUMMARY:Multi-Party Farm Equipment Auction
LOCATION:3258 Rock Springs Road\, Burlington\, IA 52601\, US
DESCRIPTION:Selling tractors\, harvest equipment\, planters\, tillers\, truc
 ks\, trailers\, and farm support items. This will be a LIVE au
 ction with online bidding available on major items.
URL:https://www.hoenigauctions.com/auctions/detail/bw144972
SEQUENCE:1
END:VEVENT
END:VCALENDAR