BEGIN:VCALENDAR
VERSION:2.0
PRODID:-//ExpressionEngine Easy iCalendar plugin//NONSGML v2.0.0//EN
X-WR-TIMEZONE:America/Chicago
X-WR-CALNAME:Upcoming Auctions
BEGIN:VEVENT
UID:146138
DTSTAMP:20251001T160000
DTSTART:20251001T160000
DTEND:20251008T160000
SUMMARY:McLearn Estate - Personal Property
LOCATION:300 N 1st Street\, Montrose\, IA 52639\, US
DESCRIPTION:Full Catalog Now Online! Selling a 2018 Ford Escape\, furnitu
 re\, glassware\,Â  bed room sets\, household decor\, tools\, fish
 ing equipment\, Mediapolis\, IA State Basketball ChampionshipÂ
  memorabilia\, 1960's & 70's Mediapolis\, IA year books\, games
 \, musical instruments and much more.Â 
URL:https://www.hoenigauctions.com/auctions/detail/bw146138
SEQUENCE:1
END:VEVENT
END:VCALENDAR