BEGIN:VCALENDAR
VERSION:2.0
PRODID:-//ExpressionEngine Easy iCalendar plugin//NONSGML v2.0.0//EN
X-WR-TIMEZONE:America/Chicago
X-WR-CALNAME:Upcoming Auctions
BEGIN:VEVENT
UID:146140
DTSTAMP:20251014T100000
DTSTART:20251014T100000
DTEND:20251023T100000
SUMMARY:McLearn Estate - Land & Real Estate Auction
LOCATION:300 N 1st Street\, Montrose\, IA 52639\, US
DESCRIPTION:Joyce L. McLearn Estate\, Auction Closes: Thursday\, October
  23\, 2025 at 10:00 AM
URL:https://www.hoenigauctions.com/auctions/detail/bw146140
SEQUENCE:1
END:VEVENT
END:VCALENDAR