BEGIN:VCALENDAR
VERSION:2.0
PRODID:-//ExpressionEngine Easy iCalendar plugin//NONSGML v2.0.0//EN
X-WR-TIMEZONE:America/Chicago
X-WR-CALNAME:Upcoming Auctions
BEGIN:VEVENT
UID:147863
DTSTAMP:20251014T100000
DTSTART:20251014T100000
DTEND:20251021T100000
SUMMARY:Hometown Car Wash - Burlington\, Iowa
LOCATION:2610 Summer Street\, Burlington\, IA 52601\, US
DESCRIPTION:Take advantage of this income producing opportunity!  The o
 wners of Hometown Carwash in Burlington\, Iowa are downsizing
  their operation and have decided to sell their Summer Stree
 t location.  This car wash features 1 touchless automatic b
 ay and 1 self service bay along with vacuum stations\, full 
 concrete lot\, current lease income from an ice machine vendo
 r and more.  This is an ABSOLUTE AUCTION sale!  There are 
 more details and photos available by clicking on the Lot Num
 ber in the list.
URL:https://www.hoenigauctions.com/auctions/detail/bw147863
SEQUENCE:1
END:VEVENT
END:VCALENDAR