BEGIN:VCALENDAR
VERSION:2.0
PRODID:-//ExpressionEngine Easy iCalendar plugin//NONSGML v2.0.0//EN
X-WR-TIMEZONE:America/Chicago
X-WR-CALNAME:Upcoming Auctions
BEGIN:VEVENT
UID:148808
DTSTAMP:20251029T160000
DTSTART:20251029T160000
DTEND:20251105T160000
SUMMARY:Walz Moving Auction
LOCATION:{location}
DESCRIPTION:Auction Closes November 5th at 4:00PM! Please note that item
 s are located in 2 locations. Lot Numbers 1-183 are located 
 at Dewey St\, Donnellson\, IA 52656 Lot Numbers 200-283 are lo
 cated at 12272 County Road 7\, Revere\, MO 63465
URL:https://www.hoenigauctions.com/auctions/detail/bw148808
SEQUENCE:1
END:VEVENT
END:VCALENDAR