BEGIN:VCALENDAR
VERSION:2.0
PRODID:-//ExpressionEngine Easy iCalendar plugin//NONSGML v2.0.0//EN
X-WR-TIMEZONE:America/Chicago
X-WR-CALNAME:Upcoming Auctions
BEGIN:VEVENT
UID:149321
DTSTAMP:20251209T170000
DTSTART:20251209T170000
DTEND:20251216T100000
SUMMARY:Equipment Auction - December 2025
LOCATION:3258 Rock Springs Road\, Burlington\, IA 52601\, US
DESCRIPTION:NOW CLOSING: Tuesday\, December 16th at 10 AM\, Online Only. L
 ive Auction Postponed\, Due to weather.
URL:https://www.hoenigauctions.com/auctions/detail/bw149321
SEQUENCE:1
END:VEVENT
END:VCALENDAR