BEGIN:VCALENDAR
VERSION:2.0
PRODID:-//ExpressionEngine Easy iCalendar plugin//NONSGML v2.0.0//EN
X-WR-TIMEZONE:America/Chicago
X-WR-CALNAME:Upcoming Auctions
BEGIN:VEVENT
UID:149396
DTSTAMP:20251111T100000
DTSTART:20251111T100000
DTEND:20251118T160000
SUMMARY:Don's Speed & Custom Estate Liquidation
LOCATION:2613 Ave. L\, Fort Madison\, IA 52627\, US
DESCRIPTION:Full Catalog is NOW AVAILABLE - Check It Out!
URL:https://www.hoenigauctions.com/auctions/detail/bw149396
SEQUENCE:1
END:VEVENT
END:VCALENDAR