BEGIN:VCALENDAR
VERSION:2.0
PRODID:-//ExpressionEngine Easy iCalendar plugin//NONSGML v2.0.0//EN
X-WR-TIMEZONE:America/Chicago
X-WR-CALNAME:Upcoming Auctions
BEGIN:VEVENT
UID:154344
DTSTAMP:20260328T120000
DTSTART:20260328T120000
DTEND:20260328T130000
SUMMARY:2026 Spring Consignment Auction
LOCATION:3258 Rock Springs Road\, Burlington\, IA 52601\, US
DESCRIPTION:Live Auction Starts at 10:00AM! Several hayracks of Keen Kut
 ter tools and collectables\, small items\, power tools\, and ot
 her farm related items to sell “off-line.” We will go ON
 LINE at Noon selling equipment! Live in-person bidding along
  with internet bidding on all major equipment.
URL:https://www.hoenigauctions.com/auctions/detail/bw154344
SEQUENCE:1
END:VEVENT
END:VCALENDAR