BEGIN:VCALENDAR
VERSION:2.0
PRODID:-//ExpressionEngine Easy iCalendar plugin//NONSGML v2.0.0//EN
X-WR-TIMEZONE:America/Chicago
X-WR-CALNAME:Upcoming Auctions
BEGIN:VEVENT
UID:155992
DTSTAMP:20260224T120000
DTSTART:20260224T120000
DTEND:20260303T180000
SUMMARY:Thrifters Auction
LOCATION:3258 Rock Spring Road\, Burlington\, IA 52601\, US
DESCRIPTION:That unexpected thrift find or market place score? We know t
 he feeling! We are bringing the thrifting experience directl
 y to you. See all the best thrift finds right from the comfo
 rt of your couch and bid through our mobile app!
URL:https://www.hoenigauctions.com/auctions/detail/bw155992
SEQUENCE:1
END:VEVENT
END:VCALENDAR