BEGIN:VCALENDAR
VERSION:2.0
PRODID:-//ExpressionEngine Easy iCalendar plugin//NONSGML v2.0.0//EN
X-WR-TIMEZONE:America/Chicago
X-WR-CALNAME:Upcoming Auctions
BEGIN:VEVENT
UID:155993
DTSTAMP:20260303T100000
DTSTART:20260303T100000
DTEND:20260310T180000
SUMMARY:Farm Toys\, Tractors and Pedal Cars
LOCATION:3258 Rock Springs Road\, Burlington\, IA 52601\, US
DESCRIPTION:Selling vintage collectible die cast farm toys\, tractors\, & 
 pedal tractors.
URL:https://www.hoenigauctions.com/auctions/detail/bw155993
SEQUENCE:1
END:VEVENT
END:VCALENDAR