BEGIN:VCALENDAR
VERSION:2.0
PRODID:-//ExpressionEngine Easy iCalendar plugin//NONSGML v2.0.1//EN
X-WR-TIMEZONE:America/Chicago
X-WR-CALNAME:Upcoming Auctions
BEGIN:VEVENT
UID:157498
DTSTAMP:20260324T080000
DTSTART:20260324T080000
DTEND:20260331T180000
SUMMARY:NASCAR & Rail Road Collection Auction
LOCATION:3258 Rock Spring Rd\, Burlington\, IA 52601\, US
DESCRIPTION:Selling a huge collection of NASCAR die cast cars and other 
 memorabilia along with a large assortment of trains\, and rai
 l road support items. 
URL:https://www.hoenigauctions.com/auctions/detail/bw157498
SEQUENCE:1
END:VEVENT
END:VCALENDAR